BEGIN:VCALENDAR
VERSION:2.0
CALSCALE:GREGORIAN
METHOD:PUBLISH
X-WR-TIMEZONE:Australia/Sydney
BEGIN:VTIMEZONE
TZID:Australia/Sydney
BEGIN:STANDARD
TZNAME:AEST
END:STANDARD
END:VTIMEZONE
BEGIN:VEVENT
DTSTART;TZID=Australia/Sydney:20200206
DTEND;TZID=Australia/Sydney:20200206
DTSTAMP:20260425T032724
UID:387
SUMMARY:First Day Of Canteen For Term 1
DESCRIPTION:







SEQUENCE:0
STATUS:CONFIRMED
TRANSP:OPAQUE
END:VEVENT
END:VCALENDAR