BEGIN:VCALENDAR
VERSION:2.0
CALSCALE:GREGORIAN
METHOD:PUBLISH
X-WR-TIMEZONE:Australia/Sydney
BEGIN:VTIMEZONE
TZID:Australia/Sydney
BEGIN:STANDARD
TZNAME:AEST
END:STANDARD
END:VTIMEZONE
BEGIN:VEVENT
DTSTART;TZID=Australia/Sydney:20200212T163000
DTEND;TZID=Australia/Sydney:20200212T180000
DTSTAMP:20260425T034334
UID:415
SUMMARY:Yrs 3 - 6 Year Level Information and Open Night
DESCRIPTION:




Yr 3 - 4.30pmYr 4 - 5pmYr 5 - 5.30pmYr 6 - 6pm


SEQUENCE:0
STATUS:CONFIRMED
TRANSP:OPAQUE
END:VEVENT
END:VCALENDAR