BEGIN:VCALENDAR
VERSION:2.0
CALSCALE:GREGORIAN
METHOD:PUBLISH
X-WR-TIMEZONE:Australia/Sydney
BEGIN:VTIMEZONE
TZID:Australia/Sydney
BEGIN:STANDARD
TZNAME:AEST
END:STANDARD
END:VTIMEZONE
BEGIN:VEVENT
DTSTART;TZID=Australia/Sydney:20200210T163000
DTEND;TZID=Australia/Sydney:20200210T173000
DTSTAMP:20260425T034935
UID:416
SUMMARY:Foundation to Yr 2 Year Level Information and Open Night
DESCRIPTION:




Foundation - 4.30pmYr 1 - 5pmYr 2 - 5.30pm


SEQUENCE:0
STATUS:CONFIRMED
TRANSP:OPAQUE
END:VEVENT
END:VCALENDAR