BEGIN:VCALENDAR
VERSION:2.0
CALSCALE:GREGORIAN
METHOD:PUBLISH
X-WR-TIMEZONE:Australia/Sydney
BEGIN:VTIMEZONE
TZID:Australia/Sydney
BEGIN:STANDARD
TZNAME:AEST
END:STANDARD
END:VTIMEZONE
BEGIN:VEVENT
DTSTART;TZID=Australia/Sydney:20210208T163000
DTEND;TZID=Australia/Sydney:20210208T180000
DTSTAMP:20260425T015604
UID:536
SUMMARY:2021 Curriculum Information Session - New STEAM Centre
DESCRIPTION:




Foundation - 4.30pmYear 1 - 5.00pmYear 2 - 5.30pm


SEQUENCE:0
STATUS:CONFIRMED
TRANSP:OPAQUE
END:VEVENT
END:VCALENDAR